BEGIN:VCALENDAR
VERSION:2.0
PRODID:-//wp-events-plugin.com//7.2.3.1//EN
BEGIN:VEVENT
UID:2366@rehabmanagement.com.au
DTSTART;TZID=Australia/Brisbane:20260218T103000
DTEND;TZID=Australia/Brisbane:20261021T120000
DTSTAMP:20260130T031914Z
URL:https://www.rehabmanagement.com.au/events/cairns-monthly-morning-tea/
SUMMARY:Cairns Monthly Morning Tea
DESCRIPTION:Join in every 3rd Wednesday of the month!\nAll Sub Branch membe
 rs are invited to our monthly morning team on the 3rd Wednesday of every m
 onth at 10:30am at the Kokoda Hall Museum.\nEnjoy coffee or tea\, a chat\,
  delicious cake\, and hear from our special guest speakers each month on t
 opics of interest to our community.\nWe look forward to seeing you there!\
 nWebsite link: https://rslqld.org/whats-on/cairns-monthly-morning-tea-id55
 23
CATEGORIES:Social Activities
LOCATION:Kokoda Hall Museum\, Level 1/115 Esplanade\, Cairns\, QLD\, Austra
 lia
GEO:-16.917605;145.774915
X-APPLE-STRUCTURED-LOCATION;VALUE=URI;X-ADDRESS=Level 1/115 Esplanade\, Cai
 rns\, QLD\, Australia;X-APPLE-RADIUS=100;X-TITLE=Kokoda Hall Museum:geo:-1
 6.917605,145.774915
END:VEVENT
BEGIN:VTIMEZONE
TZID:Australia/Brisbane
X-LIC-LOCATION:Australia/Brisbane
BEGIN:STANDARD
DTSTART:20250218T103000
TZOFFSETFROM:+1000
TZOFFSETTO:+1000
TZNAME:AEST
END:STANDARD
END:VTIMEZONE
END:VCALENDAR