BEGIN:VCALENDAR
VERSION:2.0
PRODID:-//wp-events-plugin.com//7.2.3.1//EN
BEGIN:VEVENT
UID:614@rehabmanagement.com.au
DTSTART;TZID=Australia/Brisbane:20261020T100000
DTEND;TZID=Australia/Brisbane:20261020T160000
DTSTAMP:20251209T030405Z
URL:https://www.rehabmanagement.com.au/events/defence-transition-seminar-t
 ownsville-qld-2/
SUMMARY:Defence Transition Seminar - Townsville QLD
DESCRIPTION:Transition Seminars provide Australian Defence Force (ADF) memb
 ers and their families access to information\, supports and services to pr
 epare them for transition into to civilian life.\n\nSeminars provide infor
 mation on programs and services provided by:\n\n\n\n\n 	Joint Transition A
 uthority\n 	Joint Health Command\n 	Department of Veterans’ Affairs\n 	C
 ommonwealth Superannuation Corporation\n 	ADF Financial Consumer Services 
 Centre\n 	Ex-Service Organisations (ESOs)\n\nRegistration\nFor registratio
 n purposes\, the defence email address must be utilised. If the defence em
 ail address cannot be accessed\, please provide personal email address to 
 receive all correspondence\n\n\nRegistrations will close:\n\n 	10 days pri
 or to a face-to-face event\, or when venue capacity limit is reached\n 	3 
 days prior to any virtual offering\n\nWebsite link: https://www.defence.go
 v.au/adf-members-families/military-life-cycle/transition/seminars\n\n\n
CATEGORIES:Transition Seminar
LOCATION:Townsville QLD\, TBC\, Townsville\, QLD\, 4810\, Australia
GEO:-19.259878;146.81366
X-APPLE-STRUCTURED-LOCATION;VALUE=URI;X-ADDRESS=TBC\, Townsville\, QLD\, 48
 10\, Australia;X-APPLE-RADIUS=100;X-TITLE=Townsville QLD:geo:-19.259878,14
 6.81366
END:VEVENT
BEGIN:VTIMEZONE
TZID:Australia/Brisbane
X-LIC-LOCATION:Australia/Brisbane
BEGIN:STANDARD
DTSTART:20251020T100000
TZOFFSETFROM:+1000
TZOFFSETTO:+1000
TZNAME:AEST
END:STANDARD
END:VTIMEZONE
END:VCALENDAR