BEGIN:VCALENDAR
VERSION:2.0
PRODID:-//wp-events-plugin.com//7.2.3.1//EN
BEGIN:VEVENT
UID:1097@rehabmanagement.com.au
DTSTART;TZID=Australia/Brisbane:20260612T090000
DTEND;TZID=Australia/Brisbane:20260612T160000
DTSTAMP:20260123T022437Z
URL:https://www.rehabmanagement.com.au/events/open-arms-brisbane-qld-relax
 ation-and-stress-management/
SUMMARY:Open Arms Brisbane QLD - Relaxation and Stress Management
DESCRIPTION:Practical skills that can be used in everyday life to de-stress
 \n\n 	Discover mindfulness as a practice to shift focus from ‘what has h
 appened in the past’ and ‘what may happen in the future’ to ‘what 
 is happening right now’.\n 	Learn strategies to alleviate a variety of c
 onditions\, including pain\, stress and mild depression.\n\nWho can attend
 : Current and ex-serving ADF members\, partners\, adult children.\n\nWebs
 ite link: https://www.openarms.gov.au/get-support/treatment-programs-and-w
 orkshops/
CATEGORIES:Educational Courses
LOCATION:Brisbane QLD\, TBC\, Brisbane \, QLD\, Australia
GEO:-27.445744;153.126186
X-APPLE-STRUCTURED-LOCATION;VALUE=URI;X-ADDRESS=TBC\, Brisbane \, QLD\, Aus
 tralia;X-APPLE-RADIUS=100;X-TITLE=Brisbane QLD:geo:-27.445744,153.126186
END:VEVENT
BEGIN:VTIMEZONE
TZID:Australia/Brisbane
X-LIC-LOCATION:Australia/Brisbane
BEGIN:STANDARD
DTSTART:20250612T090000
TZOFFSETFROM:+1000
TZOFFSETTO:+1000
TZNAME:AEST
END:STANDARD
END:VTIMEZONE
END:VCALENDAR