BEGIN:VCALENDAR
VERSION:2.0
PRODID:-//wp-events-plugin.com//7.2.3.1//EN
BEGIN:VEVENT
UID:1096@rehabmanagement.com.au
DTSTART;TZID=Australia/Brisbane:20260624T090000
DTEND;TZID=Australia/Brisbane:20260625T160000
DTSTAMP:20260123T022256Z
URL:https://www.rehabmanagement.com.au/events/open-arms-brisbane-qld-stepp
 ing-out/
SUMMARY:Open Arms Brisbane QLD - Stepping Out
DESCRIPTION:Making the transition from military to civilian life can be a b
 ig change for you and your family. Stepping Out is a free\, two-day grou
 p program designed to increase the awareness of important wellbeing\, pers
 onal and social adjustment factors and to support ADF members and partners
  as they are transitioning\, or who have transitioned\, from the military 
 to civilian life.\n\nCurrent and former serving ADF members and their part
 ners may attend (together or separately) as transition affects the whole f
 amily.\n\nThere are no time restrictions for veterans and partners to atte
 nd Stepping Out.\n\nThe program focuses on such things as:\n\n 	how to suc
 cessfully adapt to change\n 	the differences between military and civilian
  culture\n 	planning ahead and managing expectations\n 	understanding moti
 vation and self-care\n 	maintaining relationships and seeking support\n\nW
 ebsite link: https://www.openarms.gov.au/get-support/treatment-programs-an
 d-workshops#relaxation-and-stress-management
CATEGORIES:Educational Courses
LOCATION:Brisbane QLD\, TBC\, Brisbane \, QLD\, Australia
GEO:-27.445744;153.126186
X-APPLE-STRUCTURED-LOCATION;VALUE=URI;X-ADDRESS=TBC\, Brisbane \, QLD\, Aus
 tralia;X-APPLE-RADIUS=100;X-TITLE=Brisbane QLD:geo:-27.445744,153.126186
END:VEVENT
BEGIN:VTIMEZONE
TZID:Australia/Brisbane
X-LIC-LOCATION:Australia/Brisbane
BEGIN:STANDARD
DTSTART:20250624T090000
TZOFFSETFROM:+1000
TZOFFSETTO:+1000
TZNAME:AEST
END:STANDARD
END:VTIMEZONE
END:VCALENDAR