BEGIN:VCALENDAR
VERSION:2.0
PRODID:-//wp-events-plugin.com//7.2.3.1//EN
BEGIN:VEVENT
UID:1099@rehabmanagement.com.au
DTSTART;TZID=Australia/Brisbane:20260527T090000
DTEND;TZID=Australia/Brisbane:20260528T160000
DTSTAMP:20260123T022830Z
URL:https://www.rehabmanagement.com.au/events/open-arms-brisbane-qld-under
 standing-anxiety/
SUMMARY:Open Arms Brisbane QLD - Understanding Anxiety
DESCRIPTION:A program that teaches you strategies and skills for managing 
 anxiety\n\n 	Understand the impact of military training and experiences on
  anxiety.\n 	Learn strategies to challenge/change unhelpful thoughts and b
 ehaviours.\n 	Discover lifestyle factors for managing anxiety.\n 	Develop 
 a Relapse Prevention Plan.\n\nWho can attend: Current and ex-serving ADF 
 members\, partners\, adult children.\n\nWebsite link: https://www.openarms
 .gov.au/get-support/treatment-programs-and-workshops#relaxation-and-stress
 -management
CATEGORIES:Educational Courses
LOCATION:Brisbane QLD\, TBC\, Brisbane \, QLD\, Australia
GEO:-27.445744;153.126186
X-APPLE-STRUCTURED-LOCATION;VALUE=URI;X-ADDRESS=TBC\, Brisbane \, QLD\, Aus
 tralia;X-APPLE-RADIUS=100;X-TITLE=Brisbane QLD:geo:-27.445744,153.126186
END:VEVENT
BEGIN:VTIMEZONE
TZID:Australia/Brisbane
X-LIC-LOCATION:Australia/Brisbane
BEGIN:STANDARD
DTSTART:20250527T090000
TZOFFSETFROM:+1000
TZOFFSETTO:+1000
TZNAME:AEST
END:STANDARD
END:VTIMEZONE
END:VCALENDAR