BEGIN:VCALENDAR
VERSION:2.0
PRODID:-//wp-events-plugin.com//7.2.3.1//EN
BEGIN:VEVENT
UID:565@rehabmanagement.com.au
DTSTART;TZID=Australia/Sydney:20260702T130000
DTEND;TZID=Australia/Sydney:20260709T143000
DTSTAMP:20251209T000144Z
URL:https://www.rehabmanagement.com.au/events/open-arms-virtual-online-rec
 overy-from-trauma-3/
SUMMARY:Open Arms Virtual / Online - Recovery from Trauma
DESCRIPTION:A program to help understand and manage the impact of trauma on
  you and your family\n\n 	Identify and reduce heightened physical response
 s to trauma.\n 	Manage avoidance behaviours and develop a strategy to safe
 ly confront fearful situations.\n 	Learn how to modify unhelpful thinking.
 \n 	Develop skills to improve relationships and meet healthy lifestyle goa
 ls.\n\nWho can attend: Current and ex-serving ADF members\, partners\, ad
 ult children.\n\nWebsite link: https://www.openarms.gov.au/get-support/tre
 atment-programs-and-workshops#relaxation-and-stress-management
CATEGORIES:Educational Courses
END:VEVENT
BEGIN:VTIMEZONE
TZID:Australia/Sydney
X-LIC-LOCATION:Australia/Sydney
BEGIN:STANDARD
DTSTART:20260405T020000
TZOFFSETFROM:+1100
TZOFFSETTO:+1000
TZNAME:AEST
END:STANDARD
END:VTIMEZONE
END:VCALENDAR