BEGIN:VCALENDAR
VERSION:2.0
PRODID:-//wp-events-plugin.com//7.2.3.1//EN
BEGIN:VEVENT
UID:569@rehabmanagement.com.au
DTSTART;TZID=Australia/Melbourne:20260729T093000
DTEND;TZID=Australia/Melbourne:20260731T163000
DTSTAMP:20251209T000324Z
URL:https://www.rehabmanagement.com.au/events/open-arms-wodonga-vic-buildi
 ng-better-relationships/
SUMMARY:Open Arms Wodonga VIC - Building Better Relationships
DESCRIPTION:A program to help you rediscover what's important in your relat
 ionship and to rebuild a relationship with your partner\n\n 	Focus on what
  works well to strengthen your relationship.\n 	Enhance the resilience of 
 individual partners and the relationship.\n 	Create shared meaning through
  values and rituals of connection.\n 	Understand the emotions behind your 
 partner's life dreams.\n 	Manage conflict positively and adopt a positive 
 perspective.\n\nWho can attend: Current and ex-serving ADF members and the
 ir partners. Adult children and their partners.\n\nWebsite link: https://w
 ww.openarms.gov.au/get-support/treatment-programs-and-workshops#relaxation
 -and-stress-management
CATEGORIES:Educational Courses
LOCATION:Wodonga VIC\, TBC\, Wodonga\, VIC\, 3690\, Australia
GEO:-36.111804;146.842356
X-APPLE-STRUCTURED-LOCATION;VALUE=URI;X-ADDRESS=TBC\, Wodonga\, VIC\, 3690\
 , Australia;X-APPLE-RADIUS=100;X-TITLE=Wodonga VIC:geo:-36.111804,146.8423
 56
END:VEVENT
BEGIN:VTIMEZONE
TZID:Australia/Melbourne
X-LIC-LOCATION:Australia/Melbourne
BEGIN:STANDARD
DTSTART:20260405T020000
TZOFFSETFROM:+1100
TZOFFSETTO:+1000
TZNAME:AEST
END:STANDARD
END:VTIMEZONE
END:VCALENDAR